BEGIN:VCALENDAR
VERSION:2.0
PRODID:-//Dynashift | Charity Organisation - ECPv6.15.17//NONSGML v1.0//EN
CALSCALE:GREGORIAN
METHOD:PUBLISH
X-WR-CALNAME:Dynashift | Charity Organisation
X-ORIGINAL-URL:https://dynashift.lyftedconsult.com
X-WR-CALDESC:Events for Dynashift | Charity Organisation
REFRESH-INTERVAL;VALUE=DURATION:PT1H
X-Robots-Tag:noindex
X-PUBLISHED-TTL:PT1H
BEGIN:VTIMEZONE
TZID:Africa/Lagos
BEGIN:STANDARD
TZOFFSETFROM:+0100
TZOFFSETTO:+0100
TZNAME:WAT
DTSTART:20250101T000000
END:STANDARD
END:VTIMEZONE
BEGIN:VEVENT
DTSTART;VALUE=DATE:20260308
DTEND;VALUE=DATE:20260401
DTSTAMP:20260421T213238
CREATED:20260308T031606Z
LAST-MODIFIED:20260308T031817Z
UID:1055-1772928000-1775001599@dynashift.lyftedconsult.com
SUMMARY:APC MEMBERSHIP E-registration
DESCRIPTION:Good morning\, \nPls let us come out and do our Party E registration… \nBefore the close date \nOr you send me DM of the requirements \nThank You
URL:https://dynashift.lyftedconsult.com/event/apc-membership-e-registration/
CATEGORIES:Political
ATTACH;FMTTYPE=image/png:https://dynashift.lyftedconsult.com/wp-content/uploads/2026/03/image-2.png
END:VEVENT
BEGIN:VEVENT
DTSTART;TZID=Africa/Lagos:20260310T080000
DTEND;TZID=Africa/Lagos:20260310T170000
DTSTAMP:20260421T213238
CREATED:20260310T123441Z
LAST-MODIFIED:20260310T123441Z
UID:1107-1773129600-1773162000@dynashift.lyftedconsult.com
SUMMARY:IT'S THE TURN OF AKOKO SOUTH EAST (Akoko South East Lokan)
DESCRIPTION:IT’S THE TURN OF AKOKO SOUTH EAST(Akoko South East Lokan) \nIn Akoko South East/West Federal Constituency\, we have consistently upheld the principle of rotational political representation\, recognizing that our constituency is made up of two local government areas — Akoko South East and Akoko South West. \nThis time-honoured arrangement has preserved fairness\, strengthened unity\, and ensured political balance among our people over the years. \nSince the return of democracy in 1999\, our constituency has produced representatives who have served with dedication in the House of Representatives. \n1999–2003: P. S. Orimoloye(Akoko South East) \n2003–2007: P. S. Orimoloye(Akoko South East) \n2007–2009: Anota Joshua Ola(Akoko South West) \n2009–2011: Debo Jerome Ologunagba(Akoko South West) \n2011–2015: Debo Jerome Ologunagba(Akoko South West) \n2015–2019: Kolawole Babatunde(Akoko South East) \n2019–2023: Adejoro Adeogun(Akoko South West) \n2023–2027: Adegboyega Adefarati(Akoko South West) \nFollowing the tenure of Hon. Kolawole Babatunde from Akoko South East\, the seat was rightfully rotated to Akoko South West. Since then\, the constituency has been represented consecutively by Akoko South West — Hon. Adejoro Adeogun and presently Hon. Adegboyega Adefarati. \nAt this important stage in our democratic journey\, and in the spirit of fairness\, justice\, mutual respect\, and love for one another\, we firmly believe that it is now the rightful turn of Akoko South East to produce the next representative. \nThis conviction is rooted in the long-standing rotational understanding that has promoted peace\, inclusion\, cooperation\, and collective progress within the constituency. \nRespecting this arrangement is not merely a political demand; it is a moral obligation that sustains trust\, equity\, and unity among our people. \nIf we truly believe in justice\, fairness\, and rotational leadership; values that have held our constituency together since 1999; then allowing Akoko South East to take its turn remains the surest path to lasting harmony\, balanced development\, and continued progress for Akoko South East/West Federal Constituency. \nAs we look forward to this next phase\, it is important to state clearly that when the opportunity rightfully returns to Akoko South East\, Otunba Gbenga Elewuetu stands out as the next credible and capable leader to take up this responsibility. \nHis dedication to the people\, grassroots connection\, and commitment to the development of the constituency make him a worthy choice. \nWe therefore call on all party members and stakeholders across the constituency to rally their support to ensure that the ticket is clinched by Elewuetu. Such loyalty\, unity\, and commitment towards this collective goal will never go unrewarded. \nTogether\, let us uphold fairness\, strengthen unity\, and move our constituency forward. \nAkoko South East Lokan!!!Elewuetu lokan!!! \nCompiled by:#Elewuetu Media Team (EMT)
URL:https://dynashift.lyftedconsult.com/event/its-the-turn-of-akoko-south-east-akoko-south-east-lokan/
CATEGORIES:Political
ATTACH;FMTTYPE=image/jpeg:https://dynashift.lyftedconsult.com/wp-content/uploads/2026/03/IMG-20260309-WA0017.jpg
END:VEVENT
BEGIN:VEVENT
DTSTART;TZID=Africa/Lagos:20260310T080000
DTEND;TZID=Africa/Lagos:20260315T170000
DTSTAMP:20260421T213238
CREATED:20260310T125122Z
LAST-MODIFIED:20260310T125536Z
UID:1110-1773129600-1773594000@dynashift.lyftedconsult.com
SUMMARY:A Pose with the Brand
DESCRIPTION:The is the best representation of our initiative
URL:https://dynashift.lyftedconsult.com/event/a-pose-with-the-brand/
CATEGORIES:Political
ATTACH;FMTTYPE=image/png:https://dynashift.lyftedconsult.com/wp-content/uploads/2026/03/image-6.png
END:VEVENT
END:VCALENDAR