BEGIN:VCALENDAR
VERSION:2.0
PRODID:-//Dynashift | Charity Organisation - ECPv6.15.17//NONSGML v1.0//EN
CALSCALE:GREGORIAN
METHOD:PUBLISH
X-ORIGINAL-URL:https://dynashift.lyftedconsult.com
X-WR-CALDESC:Events for Dynashift | Charity Organisation
REFRESH-INTERVAL;VALUE=DURATION:PT1H
X-Robots-Tag:noindex
X-PUBLISHED-TTL:PT1H
BEGIN:VTIMEZONE
TZID:Africa/Lagos
BEGIN:STANDARD
TZOFFSETFROM:+0100
TZOFFSETTO:+0100
TZNAME:WAT
DTSTART:20250101T000000
END:STANDARD
END:VTIMEZONE
BEGIN:VEVENT
DTSTART;TZID=Africa/Lagos:20260214T080000
DTEND;TZID=Africa/Lagos:20260214T170000
DTSTAMP:20260421T212447
CREATED:20260308T032248Z
LAST-MODIFIED:20260308T032822Z
UID:1070-1771056000-1771088400@dynashift.lyftedconsult.com
SUMMARY:MAIKALANGU CARNIVAL
DESCRIPTION:What’s up My AMAC People!\nIt’s that time of the Season\, the Season of love.\nCome February 14th 2026\,\nAt Apo Resettlement Mini Stadium\, We are hosting MAIKALANGU CARNIVAL\, the biggest of it’s kind.\nCome show your PVC.\nCome support Maikalangu.!!
URL:https://dynashift.lyftedconsult.com/event/maikalangu-carnival/
CATEGORIES:Political
ATTACH;FMTTYPE=image/png:https://dynashift.lyftedconsult.com/wp-content/uploads/2026/03/image-5.png
END:VEVENT
END:VCALENDAR